BEGIN:VCALENDAR
VERSION:2.0
PRODID:-//AIT Alumni Association in Indonesia - ECPv6.15.20//NONSGML v1.0//EN
CALSCALE:GREGORIAN
METHOD:PUBLISH
X-WR-CALNAME:AIT Alumni Association in Indonesia
X-ORIGINAL-URL:http://aitaa.id
X-WR-CALDESC:Events for AIT Alumni Association in Indonesia
REFRESH-INTERVAL;VALUE=DURATION:PT1H
X-Robots-Tag:noindex
X-PUBLISHED-TTL:PT1H
BEGIN:VTIMEZONE
TZID:Asia/Krasnoyarsk
BEGIN:STANDARD
TZOFFSETFROM:+0700
TZOFFSETTO:+0700
TZNAME:+07
DTSTART:20240101T000000
END:STANDARD
END:VTIMEZONE
BEGIN:VEVENT
DTSTART;TZID=Asia/Krasnoyarsk:20251107T000000
DTEND;TZID=Asia/Krasnoyarsk:20251109T235959
DTSTAMP:20260420T004102
CREATED:20251026T085855Z
LAST-MODIFIED:20251026T090417Z
UID:60-1762473600-1762732799@aitaa.id
SUMMARY:54th AITAA Governing Board Meeting & International Conference
DESCRIPTION:The AIT Alumni Association and Organizing Committee is honored to invite you to attend the following sessions of the:\nAITAA GOVERNING BOARD MEETING & INTERNATIONAL CONFERENCE\n“AIT CONNECTS: REAL INTELLIGENCE. REAL AUTOMATION. REAL IMPACT.”\nShowcasing AIT Experience & Alumni Synergy in the Age of Intelligent Industry \nINTERNATIONAL CONFERENCE SESSION- “AIT CONNECTS: REAL INTELLIGENCE. REAL AUTOMATION. REAL IMPACT.”\n📅 Time: 13:30 – 17:30\, Saturday\, November 8\, 2025\n🏨 Venue: Grand Saigon Hotel\, 8 Dong Khoi Street\, Sai Gon Ward\, Ho Chi Minh City\, Vietnam \nGALA DINNER – “TOGETHER. GLOBAL. IMPACT.”\n📅 Time: 18:00 – 22:00\, Saturday\, November 8\, 2025\n🏨 Venue: Grand Saigon Hotel\, 8 Dong Khoi Street\, Sai Gon Ward\, Ho Chi Minh City\, Vietnam \nFee for register and bank transfer Gala Dinner: 1.200.000 VNĐ/Pax or 46USD/Pax\nBank transfer:\nAccount Number: 3333331797979 MB Bank\,  SWIFT  MSCBVNVX\nAccount Holder: Nguyễn Thị Cẩm Tú (CIEM 2005) – HP: 0798.881.882\nEmail: tncamtuait@gmail.com\nPayment Reference: Gala– [Full name – FoS -Grad year]
URL:http://aitaa.id/event/54th-aitaa-governing-board-meeting-international-conference/
LOCATION:Grand Saigon Hotel\, 8 Dong Khoi Street\, Ho Chi Minh City\, Sai Gon Ward\, 70000\, Viet Nam
CATEGORIES:Governing Board Meeting,International Conference
ORGANIZER;CN="AITAA in Vietnam":MAILTO:tncamtuait@gmail.com
END:VEVENT
END:VCALENDAR